Package: MetaboSignal Version: 1.36.0 Command: /Library/Frameworks/R.framework/Resources/bin/R CMD build --keep-empty-dirs --no-resave-data MetaboSignal StartedAt: 2025-04-01 02:34:31 -0400 (Tue, 01 Apr 2025) EndedAt: 2025-04-01 02:36:44 -0400 (Tue, 01 Apr 2025) EllapsedTime: 132.9 seconds RetCode: 0 Status: OK PackageFile: MetaboSignal_1.36.0.tar.gz PackageFileSize: 2.089 MiB