Package: MetaboCoreUtils Version: 1.14.0 Command: /Library/Frameworks/R.framework/Resources/bin/R CMD build --keep-empty-dirs --no-resave-data MetaboCoreUtils StartedAt: 2025-03-31 19:53:32 -0400 (Mon, 31 Mar 2025) EndedAt: 2025-03-31 19:54:03 -0400 (Mon, 31 Mar 2025) EllapsedTime: 31.4 seconds RetCode: 0 Status: OK PackageFile: MetaboCoreUtils_1.14.0.tar.gz PackageFileSize: 1.001 MiB