Package: MetaboCoreUtils Version: 1.14.0 Command: rm -rf MetaboCoreUtils.buildbin-libdir && mkdir MetaboCoreUtils.buildbin-libdir && /Users/biocbuild/BBS/utils/build-universal.sh MetaboCoreUtils_1.14.0.tar.gz /Library/Frameworks/R.framework/Resources/bin/R MetaboCoreUtils.buildbin-libdir StartedAt: 2025-04-02 15:04:08 -0400 (Wed, 02 Apr 2025) EndedAt: 2025-04-02 15:04:16 -0400 (Wed, 02 Apr 2025) EllapsedTime: 8.0 seconds RetCode: 0 Status: OK PackageFile: MetaboCoreUtils_1.14.0.tgz PackageFileSize: 1.083 MiB