Package: MetaboAnnotation Version: 1.10.1 Command: /home/biocbuild/R/R/bin/R CMD INSTALL MetaboAnnotation StartedAt: 2025-03-31 21:06:22 -0000 (Mon, 31 Mar 2025) EndedAt: 2025-03-31 21:07:14 -0000 (Mon, 31 Mar 2025) EllapsedTime: 51.9 seconds RetCode: 0 Status: OK