Package: MetaboAnnotation Version: 1.10.1 Command: F:\biocbuild\bbs-3.20-bioc\R\bin\R.exe CMD INSTALL MetaboAnnotation StartedAt: 2025-03-31 16:58:12 -0400 (Mon, 31 Mar 2025) EndedAt: 2025-03-31 16:59:44 -0400 (Mon, 31 Mar 2025) EllapsedTime: 92.1 seconds RetCode: 0 Status: OK