Package: MetaboAnnotation Version: 1.10.1 Command: /Library/Frameworks/R.framework/Resources/bin/R CMD INSTALL MetaboAnnotation StartedAt: 2025-03-31 16:31:25 -0400 (Mon, 31 Mar 2025) EndedAt: 2025-03-31 16:32:48 -0400 (Mon, 31 Mar 2025) EllapsedTime: 82.8 seconds RetCode: 0 Status: OK