Package: MetaboAnnotation Version: 1.10.1 Command: /Library/Frameworks/R.framework/Resources/bin/R CMD INSTALL MetaboAnnotation StartedAt: 2025-03-31 17:55:21 -0400 (Mon, 31 Mar 2025) EndedAt: 2025-03-31 17:56:06 -0400 (Mon, 31 Mar 2025) EllapsedTime: 45.4 seconds RetCode: 0 Status: OK