Package: MetaboAnnotation Version: 1.10.1 Command: /Library/Frameworks/R.framework/Resources/bin/R CMD build --keep-empty-dirs --no-resave-data MetaboAnnotation StartedAt: 2025-04-01 02:33:00 -0400 (Tue, 01 Apr 2025) EndedAt: 2025-04-01 02:35:03 -0400 (Tue, 01 Apr 2025) EllapsedTime: 122.7 seconds RetCode: 0 Status: OK PackageFile: MetaboAnnotation_1.10.1.tar.gz PackageFileSize: 1.248 MiB