Package: MetaPhOR Version: 1.8.0 Command: /home/biocbuild/R/R/bin/R CMD INSTALL MetaPhOR StartedAt: 2025-03-31 21:00:31 -0000 (Mon, 31 Mar 2025) EndedAt: 2025-03-31 21:01:04 -0000 (Mon, 31 Mar 2025) EllapsedTime: 32.6 seconds RetCode: 0 Status: OK