Package: MetaPhOR Version: 1.8.0 Command: /home/biocbuild/R/R/bin/R CMD check --install=check:MetaPhOR.install-out.txt --library=/home/biocbuild/R/R/site-library --no-vignettes --timings MetaPhOR_1.8.0.tar.gz StartedAt: 2025-04-01 08:06:18 -0000 (Tue, 01 Apr 2025) EndedAt: 2025-04-01 08:19:59 -0000 (Tue, 01 Apr 2025) EllapsedTime: 820.8 seconds RetCode: 0 Status: OK CheckDir: MetaPhOR.Rcheck Warnings: 0