Package: MetaPhOR Version: 1.8.0 Command: /Library/Frameworks/R.framework/Resources/bin/R CMD INSTALL MetaPhOR StartedAt: 2025-03-31 16:22:17 -0400 (Mon, 31 Mar 2025) EndedAt: 2025-03-31 16:23:07 -0400 (Mon, 31 Mar 2025) EllapsedTime: 50.6 seconds RetCode: 0 Status: OK