Package: MetaPhOR Version: 1.8.0 Command: /Library/Frameworks/R.framework/Resources/bin/R CMD build --keep-empty-dirs --no-resave-data MetaPhOR StartedAt: 2025-03-31 19:55:00 -0400 (Mon, 31 Mar 2025) EndedAt: 2025-03-31 20:35:01 -0400 (Mon, 31 Mar 2025) EllapsedTime: 2400.3 seconds RetCode: None Status: TIMEOUT PackageFile: None PackageFileSize: NA