Package: MetaNeighbor Version: 1.26.0 Command: chmod a+r MetaNeighbor -R && F:\biocbuild\bbs-3.20-bioc\R\bin\R.exe CMD build --keep-empty-dirs --no-resave-data MetaNeighbor StartedAt: 2025-03-31 20:02:22 -0400 (Mon, 31 Mar 2025) EndedAt: 2025-03-31 20:03:24 -0400 (Mon, 31 Mar 2025) EllapsedTime: 61.7 seconds RetCode: 0 Status: OK PackageFile: MetaNeighbor_1.26.0.tar.gz PackageFileSize: 3.198 MiB