Package: MetaNeighbor Version: 1.26.0 Command: rm -rf MetaNeighbor.buildbin-libdir && mkdir MetaNeighbor.buildbin-libdir && F:\biocbuild\bbs-3.20-bioc\R\bin\R.exe CMD INSTALL --build --library=MetaNeighbor.buildbin-libdir MetaNeighbor_1.26.0.tar.gz StartedAt: 2025-04-01 08:34:19 -0400 (Tue, 01 Apr 2025) EndedAt: 2025-04-01 08:34:58 -0400 (Tue, 01 Apr 2025) EllapsedTime: 39.4 seconds RetCode: 0 Status: OK PackageFile: MetaNeighbor_1.26.0.zip PackageFileSize: 4.172 MiB