Package: MetaCyto Version: 1.28.0 Command: /home/biocbuild/R/R/bin/R CMD build --keep-empty-dirs --no-resave-data MetaCyto StartedAt: 2025-04-01 00:39:11 -0000 (Tue, 01 Apr 2025) EndedAt: 2025-04-01 00:42:50 -0000 (Tue, 01 Apr 2025) EllapsedTime: 219.1 seconds RetCode: 0 Status: OK PackageFile: MetaCyto_1.28.0.tar.gz PackageFileSize: 986.6 KiB