Package: MetaCyto Version: 1.28.0 Command: F:\biocbuild\bbs-3.20-bioc\R\bin\R.exe CMD INSTALL MetaCyto StartedAt: 2025-03-31 17:02:05 -0400 (Mon, 31 Mar 2025) EndedAt: 2025-03-31 17:02:50 -0400 (Mon, 31 Mar 2025) EllapsedTime: 44.9 seconds RetCode: 0 Status: OK