Package: MetaCyto Version: 1.28.0 Command: /Library/Frameworks/R.framework/Resources/bin/R CMD build --keep-empty-dirs --no-resave-data MetaCyto StartedAt: 2025-04-01 02:34:48 -0400 (Tue, 01 Apr 2025) EndedAt: 2025-04-01 02:40:30 -0400 (Tue, 01 Apr 2025) EllapsedTime: 341.8 seconds RetCode: 0 Status: OK PackageFile: MetaCyto_1.28.0.tar.gz PackageFileSize: 1.023 MiB