Package: MetMashR Version: 1.0.0 Command: /home/biocbuild/R/R/bin/R CMD INSTALL MetMashR StartedAt: 2025-03-31 20:24:29 -0000 (Mon, 31 Mar 2025) EndedAt: 2025-03-31 20:25:12 -0000 (Mon, 31 Mar 2025) EllapsedTime: 42.9 seconds RetCode: 0 Status: OK