Package: MetMashR Version: 1.0.0 Command: chmod a+r MetMashR -R && F:\biocbuild\bbs-3.20-bioc\R\bin\R.exe CMD build --keep-empty-dirs --no-resave-data MetMashR StartedAt: 2025-03-31 20:07:18 -0400 (Mon, 31 Mar 2025) EndedAt: 2025-03-31 20:13:49 -0400 (Mon, 31 Mar 2025) EllapsedTime: 391.8 seconds RetCode: 0 Status: OK PackageFile: MetMashR_1.0.0.tar.gz PackageFileSize: 5.337 MiB