Package: MetMashR Version: 1.0.0 Command: rm -rf MetMashR.buildbin-libdir && mkdir MetMashR.buildbin-libdir && F:\biocbuild\bbs-3.20-bioc\R\bin\R.exe CMD INSTALL --build --library=MetMashR.buildbin-libdir MetMashR_1.0.0.tar.gz StartedAt: 2025-04-01 08:35:52 -0400 (Tue, 01 Apr 2025) EndedAt: 2025-04-01 08:37:30 -0400 (Tue, 01 Apr 2025) EllapsedTime: 97.8 seconds RetCode: 0 Status: OK PackageFile: MetMashR_1.0.0.zip PackageFileSize: 6.165 MiB