Package: MetMashR Version: 1.0.0 Command: /home/biocbuild/bbs-3.20-bioc/R/bin/R CMD INSTALL MetMashR StartedAt: 2025-03-31 15:19:23 -0400 (Mon, 31 Mar 2025) EndedAt: 2025-03-31 15:19:53 -0400 (Mon, 31 Mar 2025) EllapsedTime: 30.5 seconds RetCode: 0 Status: OK