Package: MetMashR Version: 1.0.0 Command: /Library/Frameworks/R.framework/Resources/bin/R CMD INSTALL MetMashR StartedAt: 2025-03-31 15:39:59 -0400 (Mon, 31 Mar 2025) EndedAt: 2025-03-31 15:40:37 -0400 (Mon, 31 Mar 2025) EllapsedTime: 38.1 seconds RetCode: 0 Status: OK