Package: MetCirc Version: 1.36.0 Command: /home/biocbuild/bbs-3.20-bioc/R/bin/R CMD check --install=check:MetCirc.install-out.txt --library=/home/biocbuild/bbs-3.20-bioc/R/site-library --timings MetCirc_1.36.0.tar.gz StartedAt: 2025-03-31 23:42:57 -0400 (Mon, 31 Mar 2025) EndedAt: 2025-03-31 23:45:52 -0400 (Mon, 31 Mar 2025) EllapsedTime: 175.1 seconds RetCode: 0 Status: OK CheckDir: MetCirc.Rcheck Warnings: 0