Package: MetCirc Version: 1.36.0 Command: /home/biocbuild/bbs-3.20-bioc/R/bin/R CMD build --keep-empty-dirs --no-resave-data --md5 MetCirc StartedAt: 2025-03-31 17:57:08 -0400 (Mon, 31 Mar 2025) EndedAt: 2025-03-31 17:58:07 -0400 (Mon, 31 Mar 2025) EllapsedTime: 59.1 seconds RetCode: 0 Status: OK PackageFile: MetCirc_1.36.0.tar.gz PackageFileSize: 2.069 MiB