Package: MetCirc Version: 1.36.0 Command: /Library/Frameworks/R.framework/Resources/bin/R CMD INSTALL MetCirc StartedAt: 2025-03-31 16:36:02 -0400 (Mon, 31 Mar 2025) EndedAt: 2025-03-31 16:36:17 -0400 (Mon, 31 Mar 2025) EllapsedTime: 15.2 seconds RetCode: 0 Status: OK