Package: MetCirc Version: 1.36.0 Command: /Library/Frameworks/R.framework/Resources/bin/R CMD check --install=check:MetCirc.install-out.txt --library=/Library/Frameworks/R.framework/Resources/library --no-vignettes --timings MetCirc_1.36.0.tar.gz StartedAt: 2025-04-02 00:13:57 -0400 (Wed, 02 Apr 2025) EndedAt: 2025-04-02 00:17:21 -0400 (Wed, 02 Apr 2025) EllapsedTime: 204.1 seconds RetCode: 0 Status: OK CheckDir: MetCirc.Rcheck Warnings: 0