Package: Mergeomics Version: 1.34.0 Command: /home/biocbuild/R/R/bin/R CMD INSTALL Mergeomics StartedAt: 2025-03-31 20:10:57 -0000 (Mon, 31 Mar 2025) EndedAt: 2025-03-31 20:11:06 -0000 (Mon, 31 Mar 2025) EllapsedTime: 9.7 seconds RetCode: 0 Status: OK