Package: Mergeomics Version: 1.34.0 Command: /home/biocbuild/R/R/bin/R CMD build --keep-empty-dirs --no-resave-data Mergeomics StartedAt: 2025-04-01 00:37:43 -0000 (Tue, 01 Apr 2025) EndedAt: 2025-04-01 00:50:55 -0000 (Tue, 01 Apr 2025) EllapsedTime: 791.3 seconds RetCode: 0 Status: OK PackageFile: Mergeomics_1.34.0.tar.gz PackageFileSize: 3.198 MiB