Package: Mergeomics Version: 1.34.0 Command: chmod a+r Mergeomics -R && F:\biocbuild\bbs-3.20-bioc\R\bin\R.exe CMD build --keep-empty-dirs --no-resave-data Mergeomics StartedAt: 2025-03-31 20:00:28 -0400 (Mon, 31 Mar 2025) EndedAt: 2025-03-31 20:07:39 -0400 (Mon, 31 Mar 2025) EllapsedTime: 430.5 seconds RetCode: 0 Status: OK PackageFile: Mergeomics_1.34.0.tar.gz PackageFileSize: 3.117 MiB