Package: Mergeomics Version: 1.34.0 Command: /Library/Frameworks/R.framework/Resources/bin/R CMD build --keep-empty-dirs --no-resave-data Mergeomics StartedAt: 2025-03-31 19:52:41 -0400 (Mon, 31 Mar 2025) EndedAt: 2025-03-31 20:05:50 -0400 (Mon, 31 Mar 2025) EllapsedTime: 789.4 seconds RetCode: 0 Status: OK PackageFile: Mergeomics_1.34.0.tar.gz PackageFileSize: 3.203 MiB