Package: Mergeomics Version: 1.34.0 Command: /Library/Frameworks/R.framework/Resources/bin/R CMD INSTALL Mergeomics StartedAt: 2025-03-31 15:03:12 -0400 (Mon, 31 Mar 2025) EndedAt: 2025-03-31 15:03:16 -0400 (Mon, 31 Mar 2025) EllapsedTime: 4.6 seconds RetCode: 0 Status: OK