Package: Melissa Version: 1.22.0 Command: /home/biocbuild/R/R/bin/R CMD INSTALL Melissa StartedAt: 2025-03-31 20:53:29 -0000 (Mon, 31 Mar 2025) EndedAt: 2025-03-31 20:53:53 -0000 (Mon, 31 Mar 2025) EllapsedTime: 24.6 seconds RetCode: 0 Status: OK