Package: Melissa Version: 1.22.0 Command: /Library/Frameworks/R.framework/Resources/bin/R CMD INSTALL Melissa StartedAt: 2025-03-31 16:09:36 -0400 (Mon, 31 Mar 2025) EndedAt: 2025-03-31 16:10:20 -0400 (Mon, 31 Mar 2025) EllapsedTime: 43.8 seconds RetCode: 0 Status: OK