Package: MatrixRider Version: 1.38.0 Command: /home/biocbuild/R/R/bin/R CMD INSTALL MatrixRider StartedAt: 2025-03-31 20:35:41 -0000 (Mon, 31 Mar 2025) EndedAt: 2025-03-31 20:36:34 -0000 (Mon, 31 Mar 2025) EllapsedTime: 52.4 seconds RetCode: 0 Status: OK