Package: MatrixQCvis Version: 1.14.0 Command: chmod a+r MatrixQCvis -R && F:\biocbuild\bbs-3.20-bioc\R\bin\R.exe CMD build --keep-empty-dirs --no-resave-data MatrixQCvis StartedAt: 2025-03-31 19:57:18 -0400 (Mon, 31 Mar 2025) EndedAt: 2025-03-31 20:01:19 -0400 (Mon, 31 Mar 2025) EllapsedTime: 241.6 seconds RetCode: 0 Status: OK PackageFile: MatrixQCvis_1.14.0.tar.gz PackageFileSize: 4.02 MiB