Package: MatrixQCvis Version: 1.14.0 Command: rm -rf MatrixQCvis.buildbin-libdir && mkdir MatrixQCvis.buildbin-libdir && /Users/biocbuild/BBS/utils/build-universal.sh MatrixQCvis_1.14.0.tar.gz /Library/Frameworks/R.framework/Resources/bin/R MatrixQCvis.buildbin-libdir StartedAt: 2025-04-01 12:10:32 -0400 (Tue, 01 Apr 2025) EndedAt: 2025-04-01 12:12:03 -0400 (Tue, 01 Apr 2025) EllapsedTime: 90.3 seconds RetCode: 0 Status: OK PackageFile: MatrixQCvis_1.14.0.tgz PackageFileSize: 5.019 MiB