Package: MatrixQCvis Version: 1.14.0 Command: /Library/Frameworks/R.framework/Resources/bin/R CMD build --keep-empty-dirs --no-resave-data MatrixQCvis StartedAt: 2025-04-01 02:21:03 -0400 (Tue, 01 Apr 2025) EndedAt: 2025-04-01 02:24:02 -0400 (Tue, 01 Apr 2025) EllapsedTime: 178.6 seconds RetCode: 0 Status: OK PackageFile: MatrixQCvis_1.14.0.tar.gz PackageFileSize: 4.767 MiB