Package: MassSpecWavelet Version: 1.72.1 Command: /home/biocbuild/R/R/bin/R CMD INSTALL MassSpecWavelet StartedAt: 2025-03-31 20:10:59 -0000 (Mon, 31 Mar 2025) EndedAt: 2025-03-31 20:11:08 -0000 (Mon, 31 Mar 2025) EllapsedTime: 8.8 seconds RetCode: 0 Status: OK