Package: MassSpecWavelet Version: 1.72.1 Command: /home/biocbuild/R/R/bin/R CMD check --install=check:MassSpecWavelet.install-out.txt --library=/home/biocbuild/R/R/site-library --no-vignettes --timings MassSpecWavelet_1.72.1.tar.gz StartedAt: 2025-04-01 07:56:58 -0000 (Tue, 01 Apr 2025) EndedAt: 2025-04-01 07:57:30 -0000 (Tue, 01 Apr 2025) EllapsedTime: 32.1 seconds RetCode: 0 Status: OK CheckDir: MassSpecWavelet.Rcheck Warnings: 0