Package: MassSpecWavelet Version: 1.72.1 Command: /home/biocbuild/R/R/bin/R CMD build --keep-empty-dirs --no-resave-data MassSpecWavelet StartedAt: 2025-04-01 00:33:27 -0000 (Tue, 01 Apr 2025) EndedAt: 2025-04-01 00:34:34 -0000 (Tue, 01 Apr 2025) EllapsedTime: 67.0 seconds RetCode: 0 Status: OK PackageFile: MassSpecWavelet_1.72.1.tar.gz PackageFileSize: 1.317 MiB