Package: MassSpecWavelet Version: 1.72.1 Command: /home/biocbuild/bbs-3.20-bioc/R/bin/R CMD INSTALL MassSpecWavelet StartedAt: 2025-03-31 15:08:44 -0400 (Mon, 31 Mar 2025) EndedAt: 2025-03-31 15:08:49 -0400 (Mon, 31 Mar 2025) EllapsedTime: 4.5 seconds RetCode: 0 Status: OK