Package: MassSpecWavelet Version: 1.72.1 Command: /home/biocbuild/bbs-3.20-bioc/R/bin/R CMD check --install=check:MassSpecWavelet.install-out.txt --library=/home/biocbuild/bbs-3.20-bioc/R/site-library --timings MassSpecWavelet_1.72.1.tar.gz StartedAt: 2025-03-31 23:34:26 -0400 (Mon, 31 Mar 2025) EndedAt: 2025-03-31 23:35:32 -0400 (Mon, 31 Mar 2025) EllapsedTime: 66.2 seconds RetCode: 0 Status: OK CheckDir: MassSpecWavelet.Rcheck Warnings: 0