Package: MassSpecWavelet Version: 1.72.1 Command: /home/biocbuild/bbs-3.20-bioc/R/bin/R CMD build --keep-empty-dirs --no-resave-data --md5 MassSpecWavelet StartedAt: 2025-03-31 17:52:36 -0400 (Mon, 31 Mar 2025) EndedAt: 2025-03-31 17:53:21 -0400 (Mon, 31 Mar 2025) EllapsedTime: 45.0 seconds RetCode: 0 Status: OK PackageFile: MassSpecWavelet_1.72.1.tar.gz PackageFileSize: 2.17 MiB