Package: MassSpecWavelet Version: 1.72.1 Command: /Library/Frameworks/R.framework/Resources/bin/R CMD check --install=check:MassSpecWavelet.install-out.txt --library=/Library/Frameworks/R.framework/Resources/library --no-vignettes --timings MassSpecWavelet_1.72.1.tar.gz StartedAt: 2025-04-01 05:08:24 -0400 (Tue, 01 Apr 2025) EndedAt: 2025-04-01 05:09:33 -0400 (Tue, 01 Apr 2025) EllapsedTime: 69.2 seconds RetCode: 0 Status: OK CheckDir: MassSpecWavelet.Rcheck Warnings: 0