Package: MassSpecWavelet Version: 1.72.1 Command: rm -rf MassSpecWavelet.buildbin-libdir && mkdir MassSpecWavelet.buildbin-libdir && /Users/biocbuild/BBS/utils/build-universal.sh MassSpecWavelet_1.72.1.tar.gz /Library/Frameworks/R.framework/Resources/bin/R MassSpecWavelet.buildbin-libdir StartedAt: 2025-04-01 12:10:25 -0400 (Tue, 01 Apr 2025) EndedAt: 2025-04-01 12:10:36 -0400 (Tue, 01 Apr 2025) EllapsedTime: 11.0 seconds RetCode: 0 Status: OK PackageFile: MassSpecWavelet_1.72.1.tgz PackageFileSize: 2.16 MiB