Package: MassArray Version: 1.58.0 Command: chmod a+r MassArray -R && F:\biocbuild\bbs-3.20-bioc\R\bin\R.exe CMD build --keep-empty-dirs --no-resave-data MassArray StartedAt: 2025-03-31 19:56:33 -0400 (Mon, 31 Mar 2025) EndedAt: 2025-03-31 19:57:19 -0400 (Mon, 31 Mar 2025) EllapsedTime: 45.6 seconds RetCode: 0 Status: OK PackageFile: MassArray_1.58.0.tar.gz PackageFileSize: 275.3 KiB