Package: MassArray Version: 1.58.0 Command: /Library/Frameworks/R.framework/Resources/bin/R CMD build --keep-empty-dirs --no-resave-data MassArray StartedAt: 2025-03-31 19:47:21 -0400 (Mon, 31 Mar 2025) EndedAt: 2025-03-31 19:48:33 -0400 (Mon, 31 Mar 2025) EllapsedTime: 72.3 seconds RetCode: 0 Status: OK PackageFile: MassArray_1.58.0.tar.gz PackageFileSize: 374.8 KiB