Package: MassArray Version: 1.58.0 Command: rm -rf MassArray.buildbin-libdir && mkdir MassArray.buildbin-libdir && /Users/biocbuild/BBS/utils/build-universal.sh MassArray_1.58.0.tar.gz /Library/Frameworks/R.framework/Resources/bin/R MassArray.buildbin-libdir StartedAt: 2025-04-01 12:10:21 -0400 (Tue, 01 Apr 2025) EndedAt: 2025-04-01 12:10:37 -0400 (Tue, 01 Apr 2025) EllapsedTime: 16.1 seconds RetCode: 0 Status: OK PackageFile: MassArray_1.58.0.tgz PackageFileSize: 651.6 KiB