Package: MassArray Version: 1.58.0 Command: /Library/Frameworks/R.framework/Resources/bin/R CMD INSTALL MassArray StartedAt: 2025-03-31 15:04:29 -0400 (Mon, 31 Mar 2025) EndedAt: 2025-03-31 15:04:35 -0400 (Mon, 31 Mar 2025) EllapsedTime: 5.8 seconds RetCode: 0 Status: OK