Package: MassArray Version: 1.58.0 Command: /Library/Frameworks/R.framework/Resources/bin/R CMD build --keep-empty-dirs --no-resave-data MassArray StartedAt: 2025-04-01 02:19:02 -0400 (Tue, 01 Apr 2025) EndedAt: 2025-04-01 02:19:35 -0400 (Tue, 01 Apr 2025) EllapsedTime: 32.8 seconds RetCode: 0 Status: OK PackageFile: MassArray_1.58.0.tar.gz PackageFileSize: 374.6 KiB